BEGIN:VCALENDAR
VERSION:2.0
PRODID:-//festivalonthebrazos.org//NONSGML kigkonsult.se iCalcreator 2.30.1
 0//
CALSCALE:GREGORIAN
METHOD:PUBLISH
UID:1db5a0b6-67e7-4b4e-b971-28ae3da6d113
X-WR-CALDESC:
X-WR-RELCALID:d85fe8451704457cc021cbdb8dbd7aa1
X-WR-TIMEZONE:America/Chicago
BEGIN:VTIMEZONE
TZID:America/Chicago
BEGIN:STANDARD
TZNAME:CST
DTSTART:20241103T020000
TZOFFSETFROM:-0500
TZOFFSETTO:-0600
RDATE:20251102T020000
RDATE:20261101T020000
END:STANDARD
BEGIN:DAYLIGHT
TZNAME:CDT
DTSTART:20250309T020000
TZOFFSETFROM:-0600
TZOFFSETTO:-0500
RDATE:20260308T020000
END:DAYLIGHT
END:VTIMEZONE
BEGIN:VEVENT
UID:eca7ba5e-2368-4a4f-ba36-de57e2b0098e
DTSTAMP:20260423T205242Z
DESCRIPTION:
DTSTART;TZID=America/Chicago:20250515T170000
DTEND;TZID=America/Chicago:20250515T183000
LOCATION:(Tentative location) - Ridgewood Country Club
SUMMARY:2025 FOTB - Spring Board Meeting & Celebration
END:VEVENT
END:VCALENDAR
