BEGIN:VCALENDAR
VERSION:2.0
PRODID:-//festivalonthebrazos.org//NONSGML kigkonsult.se iCalcreator 2.30.1
 0//
CALSCALE:GREGORIAN
METHOD:PUBLISH
UID:ca5a8ad0-cf9f-4d66-882f-a0fe34dea41d
X-WR-CALDESC:
X-WR-RELCALID:094fd8595b14f0b35d4d14cf41d293e1
X-WR-TIMEZONE:America/Chicago
BEGIN:VTIMEZONE
TZID:America/Chicago
BEGIN:STANDARD
TZNAME:CST
DTSTART:20241103T020000
TZOFFSETFROM:-0500
TZOFFSETTO:-0600
RDATE:20251102T020000
RDATE:20261101T020000
END:STANDARD
BEGIN:DAYLIGHT
TZNAME:CDT
DTSTART:20250309T020000
TZOFFSETFROM:-0600
TZOFFSETTO:-0500
RDATE:20260308T020000
END:DAYLIGHT
END:VTIMEZONE
BEGIN:VEVENT
UID:9830a165-8947-4092-937d-6d6aa9da6102
DTSTAMP:20260423T193728Z
DESCRIPTION:
DTSTART;TZID=America/Chicago:20250625T100000
DTEND;TZID=America/Chicago:20250625T143000
LOCATION:3401 Alexander
SUMMARY:Corporate Board Annual Meeting
END:VEVENT
END:VCALENDAR
