BEGIN:VCALENDAR
VERSION:2.0
PRODID:-//festivalonthebrazos.org//NONSGML kigkonsult.se iCalcreator 2.30.1
 0//
CALSCALE:GREGORIAN
METHOD:PUBLISH
UID:421ce890-1098-4d1c-8556-d96fcbe96b9b
X-WR-CALDESC:In Town Court and Parent interview with 2026 General Chair\, J
 ulie Carlson and 2026 Court Direction Chair\, Emily McElreath.
X-WR-RELCALID:049a30ed113631407105803fd83752f6
X-WR-TIMEZONE:America/Chicago
BEGIN:VTIMEZONE
TZID:America/Chicago
BEGIN:STANDARD
TZNAME:CST
DTSTART:20241103T020000
TZOFFSETFROM:-0500
TZOFFSETTO:-0600
RDATE:20251102T020000
RDATE:20261101T020000
END:STANDARD
BEGIN:DAYLIGHT
TZNAME:CDT
DTSTART:20250309T020000
TZOFFSETFROM:-0600
TZOFFSETTO:-0500
RDATE:20260308T020000
END:DAYLIGHT
END:VTIMEZONE
BEGIN:VEVENT
UID:04d0538b-0a5d-48a4-bfe5-3f5a8e53164c
DTSTAMP:20260423T175315Z
DESCRIPTION:In Town Court and Parent interview with 2026 General Chair\, Ju
 lie Carlson and 2026 Court Direction Chair\, Emily McElreath.
DTSTART;TZID=America/Chicago:20250630T160000
DTEND;TZID=America/Chicago:20250709T190000
LOCATION:5000 Crestwood \, Waco\, TX 76710 US
SUMMARY:In Town Court Interviews Begin
END:VEVENT
END:VCALENDAR
