BEGIN:VCALENDAR
VERSION:2.0
PRODID:-//festivalonthebrazos.org//NONSGML kigkonsult.se iCalcreator 2.30.1
 0//
CALSCALE:GREGORIAN
METHOD:PUBLISH
UID:09044601-70be-4458-b8cc-196320dacc51
X-WR-CALDESC:
X-WR-RELCALID:f6cfe7bb8b8369867af0be31f1c08c8d
X-WR-TIMEZONE:America/Chicago
BEGIN:VTIMEZONE
TZID:America/Chicago
BEGIN:STANDARD
TZNAME:CST
DTSTART:20241103T020000
TZOFFSETFROM:-0500
TZOFFSETTO:-0600
RDATE:20251102T020000
RDATE:20261101T020000
END:STANDARD
BEGIN:DAYLIGHT
TZNAME:CDT
DTSTART:20250309T020000
TZOFFSETFROM:-0600
TZOFFSETTO:-0500
RDATE:20260308T020000
RDATE:20270314T020000
END:DAYLIGHT
END:VTIMEZONE
BEGIN:VEVENT
UID:f78534bf-75ac-46a6-b9c7-69743c557246
DTSTAMP:20260423T144523Z
DESCRIPTION:
DTSTART;TZID=America/Chicago:20250920T050000
DTEND;TZID=America/Chicago:20250921T050001
LOCATION:8031 Hidden Bluff Drive\, McGregor\, TX 76712 US
SUMMARY:Princess Fabric & Design Reveal
END:VEVENT
END:VCALENDAR
