BEGIN:VCALENDAR
VERSION:2.0
PRODID:-//festivalonthebrazos.org//NONSGML kigkonsult.se iCalcreator 2.30.1
 0//
CALSCALE:GREGORIAN
METHOD:PUBLISH
UID:2201a5dc-1db5-4170-92d2-6e9708d922b8
X-WR-CALDESC:
X-WR-RELCALID:7d5dd4bba0be4be55f06f39bc7d869be
X-WR-TIMEZONE:America/Chicago
BEGIN:VTIMEZONE
TZID:America/Chicago
BEGIN:STANDARD
TZNAME:CST
DTSTART:20241103T020000
TZOFFSETFROM:-0500
TZOFFSETTO:-0600
RDATE:20251102T020000
RDATE:20261101T020000
END:STANDARD
BEGIN:DAYLIGHT
TZNAME:CDT
DTSTART:20250309T020000
TZOFFSETFROM:-0600
TZOFFSETTO:-0500
RDATE:20260308T020000
RDATE:20270314T020000
END:DAYLIGHT
END:VTIMEZONE
BEGIN:VEVENT
UID:2b729c65-59d3-48ca-9f65-61a03fccf274
DTSTAMP:20260423T130634Z
DESCRIPTION:
DTSTART;TZID=America/Chicago:20251002T170000
DTEND;TZID=America/Chicago:20251002T190000
LOCATION:5000 Crestwood Dr\, Waco\, TX 76710 US
SUMMARY:Fall Chairman Meeting
END:VEVENT
END:VCALENDAR
