BEGIN:VCALENDAR
VERSION:2.0
PRODID:-//festivalonthebrazos.org//NONSGML kigkonsult.se iCalcreator 2.30.1
 0//
CALSCALE:GREGORIAN
METHOD:PUBLISH
UID:569c9e13-cfd0-4ad3-ba25-0ca9d13a2c37
X-WR-CALDESC:Fall Board meeting
X-WR-RELCALID:e20bdf53f2ab4d2fd2971d78996eb25c
X-WR-TIMEZONE:America/Chicago
BEGIN:VTIMEZONE
TZID:America/Chicago
BEGIN:STANDARD
TZNAME:CST
DTSTART:20241103T020000
TZOFFSETFROM:-0500
TZOFFSETTO:-0600
RDATE:20251102T020000
RDATE:20261101T020000
END:STANDARD
BEGIN:DAYLIGHT
TZNAME:CDT
DTSTART:20250309T020000
TZOFFSETFROM:-0600
TZOFFSETTO:-0500
RDATE:20260308T020000
RDATE:20270314T020000
END:DAYLIGHT
END:VTIMEZONE
BEGIN:VEVENT
UID:3e3fb38f-ca61-48da-99ff-b32ab32cf41d
DTSTAMP:20260423T130952Z
DESCRIPTION:Fall Board meeting
DTSTART;TZID=America/Chicago:20251002T170000
DTEND;TZID=America/Chicago:20251002T183000
LOCATION:Julie Campbell Carlson's home\, 5000 Crestwood\, Waco\, TX 76710 U
 S
SUMMARY:FOTB 2026 Fall Meeting
END:VEVENT
END:VCALENDAR
