BEGIN:VCALENDAR
VERSION:2.0
PRODID:-//festivalonthebrazos.org//NONSGML kigkonsult.se iCalcreator 2.30.1
 0//
CALSCALE:GREGORIAN
METHOD:PUBLISH
UID:541e0238-fb1f-49c7-93c7-e7ac651cebcb
X-WR-CALDESC:
X-WR-RELCALID:4f38239b8f946b77dd0c13f76849b95b
X-WR-TIMEZONE:America/Chicago
BEGIN:VTIMEZONE
TZID:America/Chicago
BEGIN:STANDARD
TZNAME:CST
DTSTART:20241103T020000
TZOFFSETFROM:-0500
TZOFFSETTO:-0600
RDATE:20251102T020000
RDATE:20261101T020000
END:STANDARD
BEGIN:DAYLIGHT
TZNAME:CDT
DTSTART:20250309T020000
TZOFFSETFROM:-0600
TZOFFSETTO:-0500
RDATE:20260308T020000
RDATE:20270314T020000
END:DAYLIGHT
END:VTIMEZONE
BEGIN:VEVENT
UID:3570775a-2539-4330-b3cd-88b3104462c6
DTSTAMP:20260423T130449Z
DESCRIPTION:
DTSTART;TZID=America/Chicago:20251016T130000
DTEND;TZID=America/Chicago:20251016T160000
LOCATION:MCBB's home\, 3401 Alexander\, Waco\, TX 76708 US
SUMMARY:Corporate Board Fall Meeting
END:VEVENT
END:VCALENDAR
