BEGIN:VCALENDAR
VERSION:2.0
PRODID:-//festivalonthebrazos.org//NONSGML kigkonsult.se iCalcreator 2.30.1
 0//
CALSCALE:GREGORIAN
METHOD:PUBLISH
UID:1d9f1669-55f7-41b4-a2d3-0cbf2d3546f6
X-WR-CALDESC:
X-WR-RELCALID:1b18eb69c1f2bcab75d0cc74a4292d5d
X-WR-TIMEZONE:America/Chicago
BEGIN:VTIMEZONE
TZID:America/Chicago
BEGIN:STANDARD
TZNAME:CST
DTSTART:20251102T020000
TZOFFSETFROM:-0500
TZOFFSETTO:-0600
RDATE:20261101T020000
END:STANDARD
BEGIN:DAYLIGHT
TZNAME:CDT
DTSTART:20250309T020000
TZOFFSETFROM:-0600
TZOFFSETTO:-0500
RDATE:20260308T020000
RDATE:20270314T020000
END:DAYLIGHT
END:VTIMEZONE
BEGIN:VEVENT
UID:1ae1a803-1f45-41a9-81e0-d0f0714de620
DTSTAMP:20260423T101248Z
DESCRIPTION:
DTSTART;TZID=America/Chicago:20251204T163000
DTEND;TZID=America/Chicago:20251204T183000
LOCATION:Lisa Lewis's home\, address to come\, Waco\, TX 76710 US
SUMMARY:Annual Volunteer Christmas Party
END:VEVENT
END:VCALENDAR
