BEGIN:VCALENDAR
VERSION:2.0
PRODID:-//festivalonthebrazos.org//NONSGML kigkonsult.se iCalcreator 2.30.1
 0//
CALSCALE:GREGORIAN
METHOD:PUBLISH
UID:c32d4282-cde3-4039-b547-326be69369e6
X-WR-CALDESC:
X-WR-RELCALID:679153cc2ec5b1df7219f49e35e76d36
X-WR-TIMEZONE:America/Chicago
BEGIN:VTIMEZONE
TZID:America/Chicago
BEGIN:STANDARD
TZNAME:CST
DTSTART:20251102T020000
TZOFFSETFROM:-0500
TZOFFSETTO:-0600
RDATE:20261101T020000
END:STANDARD
BEGIN:DAYLIGHT
TZNAME:CDT
DTSTART:20250309T020000
TZOFFSETFROM:-0600
TZOFFSETTO:-0500
RDATE:20260308T020000
RDATE:20270314T020000
END:DAYLIGHT
END:VTIMEZONE
BEGIN:VEVENT
UID:5f743cfb-8a74-4f3f-9e4b-51b050cdb466
DTSTAMP:20260423T084307Z
DESCRIPTION:
DTSTART;TZID=America/Chicago:20260115T120000
DTEND;TZID=America/Chicago:20260115T133000
LOCATION:Ridgewood Country Club\, 7301 Fish Pond Road\, Waco\, TX 76710 US
SUMMARY:FOTB 2026 Winter Board Meeting
END:VEVENT
END:VCALENDAR
