BEGIN:VCALENDAR
VERSION:2.0
PRODID:-//festivalonthebrazos.org//NONSGML kigkonsult.se iCalcreator 2.30.1
 0//
CALSCALE:GREGORIAN
METHOD:PUBLISH
UID:e56d51f1-8f86-46e8-af2d-f42d6f97bfe5
X-WR-CALDESC:
X-WR-RELCALID:d695f057577b68dea9dc9751265414ae
X-WR-TIMEZONE:America/Chicago
BEGIN:VTIMEZONE
TZID:America/Chicago
BEGIN:STANDARD
TZNAME:CST
DTSTART:20251102T020000
TZOFFSETFROM:-0500
TZOFFSETTO:-0600
RDATE:20261101T020000
END:STANDARD
BEGIN:DAYLIGHT
TZNAME:CDT
DTSTART:20250309T020000
TZOFFSETFROM:-0600
TZOFFSETTO:-0500
RDATE:20260308T020000
RDATE:20270314T020000
END:DAYLIGHT
END:VTIMEZONE
BEGIN:VEVENT
UID:75be9913-3785-4383-8245-233b3a7336f2
DTSTAMP:20260423T072919Z
DESCRIPTION:
DTSTART;TZID=America/Chicago:20260219T190000
DTEND;TZID=America/Chicago:20260219T200000
LOCATION:Julie Campbell Carlson's home\, 5000 Crestwood\, Waco\, TX 76710 U
 S
SUMMARY:FOTB 2026 In Town Court Meeting
END:VEVENT
END:VCALENDAR
