BEGIN:VCALENDAR
VERSION:2.0
PRODID:-//festivalonthebrazos.org//NONSGML kigkonsult.se iCalcreator 2.30.1
 0//
CALSCALE:GREGORIAN
METHOD:PUBLISH
UID:e7b74c49-96e3-41aa-8704-e258c34d1355
X-WR-CALDESC:10 am - Photo\n10:30 am - Meeting
X-WR-RELCALID:f5cb128ee0ab3de188f134f7354f07e0
X-WR-TIMEZONE:America/Chicago
BEGIN:VTIMEZONE
TZID:America/Chicago
BEGIN:STANDARD
TZNAME:CST
DTSTART:20251102T020000
TZOFFSETFROM:-0500
TZOFFSETTO:-0600
RDATE:20261101T020000
END:STANDARD
BEGIN:DAYLIGHT
TZNAME:CDT
DTSTART:20250309T020000
TZOFFSETFROM:-0600
TZOFFSETTO:-0500
RDATE:20260308T020000
RDATE:20270314T020000
END:DAYLIGHT
END:VTIMEZONE
BEGIN:VEVENT
UID:739814db-d22a-406c-b971-39a94094db6c
DTSTAMP:20260423T073016Z
DESCRIPTION:10 am - Photo\n10:30 am - Meeting
DTSTART;TZID=America/Chicago:20260220T120000
DTEND;TZID=America/Chicago:20260220T150000
LOCATION:MCBB's home\, 3401 Alexander\, Waco\, TX 76708 US
SUMMARY:Corporate Board Winter Meeting & Photo Day
END:VEVENT
END:VCALENDAR
