BEGIN:VCALENDAR
VERSION:2.0
PRODID:-//festivalonthebrazos.org//NONSGML kigkonsult.se iCalcreator 2.30.1
 0//
CALSCALE:GREGORIAN
METHOD:PUBLISH
UID:643a3f63-d2bb-4d5d-8841-d1db27b0fe03
X-WR-CALDESC:
X-WR-RELCALID:fee2c27f6014b9d3c54b2f491c5e0fcc
X-WR-TIMEZONE:America/Chicago
BEGIN:VTIMEZONE
TZID:America/Chicago
BEGIN:STANDARD
TZNAME:CST
DTSTART:20251102T020000
TZOFFSETFROM:-0500
TZOFFSETTO:-0600
RDATE:20261101T020000
END:STANDARD
BEGIN:DAYLIGHT
TZNAME:CDT
DTSTART:20260308T020000
TZOFFSETFROM:-0600
TZOFFSETTO:-0500
RDATE:20270314T020000
END:DAYLIGHT
END:VTIMEZONE
BEGIN:VEVENT
UID:da0a36dd-273f-4a87-9124-75cb451ded29
DTSTAMP:20260423T060518Z
DESCRIPTION:
DTSTART;TZID=America/Chicago:20260319T170000
DTEND;TZID=America/Chicago:20260319T183000
LOCATION:Ridgewood Country Club\, 7301 Fish Pond Road\, Waco\, TX 76710 US
SUMMARY:2026 FOTB Sponsor Meeting
END:VEVENT
END:VCALENDAR
