BEGIN:VCALENDAR
VERSION:2.0
PRODID:-//festivalonthebrazos.org//NONSGML kigkonsult.se iCalcreator 2.30.1
 0//
CALSCALE:GREGORIAN
METHOD:PUBLISH
UID:206edda4-7435-48b4-ad1c-674fafe3197e
X-WR-CALDESC:
X-WR-RELCALID:6a4552c84252e675cf18fee536ee3adf
X-WR-TIMEZONE:America/Chicago
BEGIN:VTIMEZONE
TZID:America/Chicago
BEGIN:STANDARD
TZNAME:CST
DTSTART:20251102T020000
TZOFFSETFROM:-0500
TZOFFSETTO:-0600
RDATE:20261101T020000
END:STANDARD
BEGIN:DAYLIGHT
TZNAME:CDT
DTSTART:20260308T020000
TZOFFSETFROM:-0600
TZOFFSETTO:-0500
RDATE:20270314T020000
END:DAYLIGHT
END:VTIMEZONE
BEGIN:VEVENT
UID:ca1f8a64-6eee-4ef8-8eea-6d89dec4019c
DTSTAMP:20260423T045617Z
DESCRIPTION:
DTSTART;TZID=America/Chicago:20260423T050000
DTEND;TZID=America/Chicago:20260426T050001
LOCATION:
SUMMARY:Festival on the Brazos Weekend
END:VEVENT
END:VCALENDAR
