BEGIN:VCALENDAR
VERSION:2.0
PRODID:-//festivalonthebrazos.org//NONSGML kigkonsult.se iCalcreator 2.30.1
 0//
CALSCALE:GREGORIAN
METHOD:PUBLISH
UID:39e5241d-bd73-4864-bb42-e0f0665f7a52
X-WR-CALDESC:
X-WR-RELCALID:aa01cc6963f6b34bbc38e6e398debca5
X-WR-TIMEZONE:America/Chicago
BEGIN:VTIMEZONE
TZID:America/Chicago
BEGIN:STANDARD
TZNAME:CST
DTSTART:20251102T020000
TZOFFSETFROM:-0500
TZOFFSETTO:-0600
RDATE:20261101T020000
END:STANDARD
BEGIN:DAYLIGHT
TZNAME:CDT
DTSTART:20260308T020000
TZOFFSETFROM:-0600
TZOFFSETTO:-0500
RDATE:20270314T020000
END:DAYLIGHT
END:VTIMEZONE
BEGIN:VEVENT
UID:0c9e7b9a-870c-470c-bb3e-98f612e65723
DTSTAMP:20260423T045853Z
DESCRIPTION:
DTSTART;TZID=America/Chicago:20260423T193000
DTEND;TZID=America/Chicago:20260423T213000
LOCATION:Home locations included in Invitation Packet\, Various\, Waco\, TX
  76710 US
SUMMARY:Dinner in private homes with Waco Sponsors & Court Parents
END:VEVENT
END:VCALENDAR
