BEGIN:VCALENDAR
VERSION:2.0
PRODID:-//festivalonthebrazos.org//NONSGML kigkonsult.se iCalcreator 2.30.1
 0//
CALSCALE:GREGORIAN
METHOD:PUBLISH
UID:685b933a-66c0-4011-81ae-7299fa46e8b6
X-WR-CALDESC:
X-WR-RELCALID:b8fe6b033fe0b6ea33a73d9f172d1713
X-WR-TIMEZONE:America/Chicago
BEGIN:VTIMEZONE
TZID:America/Chicago
BEGIN:STANDARD
TZNAME:CST
DTSTART:20251102T020000
TZOFFSETFROM:-0500
TZOFFSETTO:-0600
RDATE:20261101T020000
END:STANDARD
BEGIN:DAYLIGHT
TZNAME:CDT
DTSTART:20260308T020000
TZOFFSETFROM:-0600
TZOFFSETTO:-0500
RDATE:20270314T020000
END:DAYLIGHT
END:VTIMEZONE
BEGIN:VEVENT
UID:80d06430-471c-4ee7-860f-fd16b393942b
DTSTAMP:20260421T081341Z
DESCRIPTION:
DTSTART;TZID=America/Chicago:20260423T103000
DTEND;TZID=America/Chicago:20260423T110000
LOCATION:AC Marriott Hotel Waco Downtown\, 600 Mary Avenue\, Waco\, TX 7670
 1 US
SUMMARY:Festival on the Brazos Weekend Check-In Begins for Out-of-Town Cour
 t Families
END:VEVENT
END:VCALENDAR
