BEGIN:VCALENDAR
VERSION:2.0
PRODID:-//festivalonthebrazos.org//NONSGML kigkonsult.se iCalcreator 2.30.1
 0//
CALSCALE:GREGORIAN
METHOD:PUBLISH
UID:0438d2b7-9b92-41e5-96d7-c4352b59e838
X-WR-CALDESC:
X-WR-RELCALID:9007bd4ad2e0eb85d556468b7bfae974
X-WR-TIMEZONE:America/Chicago
BEGIN:VTIMEZONE
TZID:America/Chicago
BEGIN:STANDARD
TZNAME:CST
DTSTART:20251102T020000
TZOFFSETFROM:-0500
TZOFFSETTO:-0600
RDATE:20261101T020000
END:STANDARD
BEGIN:DAYLIGHT
TZNAME:CDT
DTSTART:20260308T020000
TZOFFSETFROM:-0600
TZOFFSETTO:-0500
RDATE:20270314T020000
END:DAYLIGHT
END:VTIMEZONE
BEGIN:VEVENT
UID:64120258-a160-4278-ad5c-c6d6a758b0b0
DTSTAMP:20260423T045105Z
DESCRIPTION:
DTSTART;TZID=America/Chicago:20260423T153000
DTEND;TZID=America/Chicago:20260423T173000
LOCATION:AC Marriott Hotel Waco Downtown\, 600 Mary Avenue\, Waco\, TX 7670
 6 US
SUMMARY:Hair Appointments for Princesses & Duchesses
END:VEVENT
END:VCALENDAR
