BEGIN:VCALENDAR
VERSION:2.0
PRODID:-//festivalonthebrazos.org//NONSGML kigkonsult.se iCalcreator 2.30.1
 0//
CALSCALE:GREGORIAN
METHOD:PUBLISH
UID:f440130a-6303-41f1-8e14-1f9556a29727
X-WR-CALDESC:
X-WR-RELCALID:c5bdf0cedd8208e324eacb1f9dbf5371
X-WR-TIMEZONE:America/Chicago
BEGIN:VTIMEZONE
TZID:America/Chicago
BEGIN:STANDARD
TZNAME:CST
DTSTART:20251102T020000
TZOFFSETFROM:-0500
TZOFFSETTO:-0600
RDATE:20261101T020000
END:STANDARD
BEGIN:DAYLIGHT
TZNAME:CDT
DTSTART:20260308T020000
TZOFFSETFROM:-0600
TZOFFSETTO:-0500
RDATE:20270314T020000
END:DAYLIGHT
END:VTIMEZONE
BEGIN:VEVENT
UID:9bf92165-e58b-4c3b-b471-4923ed9c2120
DTSTAMP:20260421T094422Z
DESCRIPTION:
DTSTART;TZID=America/Chicago:20260423T110000
DTEND;TZID=America/Chicago:20260423T143000
LOCATION:AC Hotel (Welcome meeting & Lunch) and Masonic Grand Lodge (Rehear
 sal)\, Various\, Waco\, TX 76701 US
SUMMARY:Out-of-Town Court Welcome Meeting followed by Court Rehearsal
END:VEVENT
END:VCALENDAR
