BEGIN:VCALENDAR
VERSION:2.0
PRODID:-//festivalonthebrazos.org//NONSGML kigkonsult.se iCalcreator 2.30.1
 0//
CALSCALE:GREGORIAN
METHOD:PUBLISH
UID:42925269-80c1-4d56-a65a-2ba67437b63e
X-WR-CALDESC:
X-WR-RELCALID:ca5e57a9c100baef284c39f7013285ce
X-WR-TIMEZONE:America/Chicago
BEGIN:VTIMEZONE
TZID:America/Chicago
BEGIN:STANDARD
TZNAME:CST
DTSTART:20251102T020000
TZOFFSETFROM:-0500
TZOFFSETTO:-0600
RDATE:20261101T020000
END:STANDARD
BEGIN:DAYLIGHT
TZNAME:CDT
DTSTART:20260308T020000
TZOFFSETFROM:-0600
TZOFFSETTO:-0500
RDATE:20270314T020000
END:DAYLIGHT
END:VTIMEZONE
BEGIN:VEVENT
UID:748fb627-9b63-401b-9ffd-68f01419b7da
DTSTAMP:20260421T081014Z
DESCRIPTION:
DTSTART;TZID=America/Chicago:20260423T110000
DTEND;TZID=America/Chicago:20260423T113000
LOCATION:AC Marriott Hotel Waco Downtown\, 600 Mary Avenue\, Waco\, TX 7670
 1 US
SUMMARY:Welcome meeting for Out-of-Town Parents and Sponsors
END:VEVENT
END:VCALENDAR
