BEGIN:VCALENDAR
VERSION:2.0
PRODID:-//festivalonthebrazos.org//NONSGML kigkonsult.se iCalcreator 2.30.1
 0//
CALSCALE:GREGORIAN
METHOD:PUBLISH
UID:6cfb9a5a-17f9-4375-bc30-3912417f01e1
X-WR-CALDESC:
X-WR-RELCALID:92b35c64dead6b988502fe92410339c5
X-WR-TIMEZONE:America/Chicago
BEGIN:VTIMEZONE
TZID:America/Chicago
BEGIN:STANDARD
TZNAME:CST
DTSTART:20251102T020000
TZOFFSETFROM:-0500
TZOFFSETTO:-0600
RDATE:20261101T020000
END:STANDARD
BEGIN:DAYLIGHT
TZNAME:CDT
DTSTART:20260308T020000
TZOFFSETFROM:-0600
TZOFFSETTO:-0500
RDATE:20270314T020000
END:DAYLIGHT
END:VTIMEZONE
BEGIN:VEVENT
UID:f5d4b61a-8d23-495c-8d56-023da12db4f6
DTSTAMP:20260423T045629Z
DESCRIPTION:
DTSTART;TZID=America/Chicago:20260424T193000
DTEND;TZID=America/Chicago:20260424T210000
LOCATION:Grand Masonic Lodge of Texas\, 715 Columbus Avenue\, Waco\, TX 767
 10 US
SUMMARY:2026 Festival on the Brazos Historic Production
END:VEVENT
END:VCALENDAR
