BEGIN:VCALENDAR
VERSION:2.0
PRODID:-//festivalonthebrazos.org//NONSGML kigkonsult.se iCalcreator 2.30.1
 0//
CALSCALE:GREGORIAN
METHOD:PUBLISH
UID:1d270d8b-30e7-479e-81eb-f47acbd86321
X-WR-CALDESC:The Royal Reception is open to the Public.  To order tickets p
 lease complete the Festival on the Brazos Ticket Order Form.  Note:  You d
 o not have to attend the Historic Production in order to attend the Royal 
 Reception.
X-WR-RELCALID:ad36dba1a7f059db80e928fe14b5447e
X-WR-TIMEZONE:America/Chicago
BEGIN:VTIMEZONE
TZID:America/Chicago
BEGIN:STANDARD
TZNAME:CST
DTSTART:20251102T020000
TZOFFSETFROM:-0500
TZOFFSETTO:-0600
RDATE:20261101T020000
END:STANDARD
BEGIN:DAYLIGHT
TZNAME:CDT
DTSTART:20260308T020000
TZOFFSETFROM:-0600
TZOFFSETTO:-0500
RDATE:20270314T020000
END:DAYLIGHT
END:VTIMEZONE
BEGIN:VEVENT
UID:201aecd7-5382-4a9a-82ef-80668317fbe4
DTSTAMP:20260423T045746Z
DESCRIPTION:The Royal Reception is open to the Public.  To order tickets pl
 ease complete the Festival on the Brazos Ticket Order Form.  Note:  You do
  not have to attend the Historic Production in order to attend the Royal R
 eception.
DTSTART;TZID=America/Chicago:20260424T220000
DTEND;TZID=America/Chicago:20260424T233000
LOCATION:Waco Convention Center\, 100 Washington Avenue\, Waco\, TX 76701 U
 S
SUMMARY:2026 Festival on the Brazos Royal Reception
END:VEVENT
END:VCALENDAR
