BEGIN:VCALENDAR
VERSION:2.0
PRODID:-//festivalonthebrazos.org//NONSGML kigkonsult.se iCalcreator 2.30.1
 0//
CALSCALE:GREGORIAN
METHOD:PUBLISH
UID:85edeb20-8c01-471d-bdf7-836db56cc619
X-WR-CALDESC:
X-WR-RELCALID:df84b7eb58298ca603a5ffe7b48e8ca8
X-WR-TIMEZONE:America/Chicago
BEGIN:VTIMEZONE
TZID:America/Chicago
BEGIN:STANDARD
TZNAME:CST
DTSTART:20251102T020000
TZOFFSETFROM:-0500
TZOFFSETTO:-0600
RDATE:20261101T020000
END:STANDARD
BEGIN:DAYLIGHT
TZNAME:CDT
DTSTART:20260308T020000
TZOFFSETFROM:-0600
TZOFFSETTO:-0500
RDATE:20270314T020000
END:DAYLIGHT
END:VTIMEZONE
BEGIN:VEVENT
UID:2bec9038-bc1e-4933-b000-1bb97aac8457
DTSTAMP:20260423T045106Z
DESCRIPTION:
DTSTART;TZID=America/Chicago:20260424T110000
DTEND;TZID=America/Chicago:20260424T123000
LOCATION:Kay Olson's home\, 3812 Greenleaf Drive\, Waco\, TX 76710 US
SUMMARY:Ladies Luncheon
END:VEVENT
END:VCALENDAR
