BEGIN:VCALENDAR
VERSION:2.0
PRODID:-//festivalonthebrazos.org//NONSGML kigkonsult.se iCalcreator 2.30.1
 0//
CALSCALE:GREGORIAN
METHOD:PUBLISH
UID:bbf0b530-d0e0-4eb3-8ae8-ea0f700a3085
X-WR-CALDESC:
X-WR-RELCALID:097a166abd15ded11be05cead2e24cf5
X-WR-TIMEZONE:America/Chicago
BEGIN:VTIMEZONE
TZID:America/Chicago
BEGIN:STANDARD
TZNAME:CST
DTSTART:20251102T020000
TZOFFSETFROM:-0500
TZOFFSETTO:-0600
RDATE:20261101T020000
END:STANDARD
BEGIN:DAYLIGHT
TZNAME:CDT
DTSTART:20260308T020000
TZOFFSETFROM:-0600
TZOFFSETTO:-0500
RDATE:20270314T020000
END:DAYLIGHT
END:VTIMEZONE
BEGIN:VEVENT
UID:46c506ea-48be-446a-b6b0-2e119c1ea255
DTSTAMP:20260423T044808Z
DESCRIPTION:
DTSTART;TZID=America/Chicago:20260425T110000
DTEND;TZID=America/Chicago:20260425T130000
LOCATION:Ridgewood Country Club\, 7301 Fish Pond Road\, Waco\, TX 76710 US
SUMMARY:Ambassador's Brunch
END:VEVENT
END:VCALENDAR
