BEGIN:VCALENDAR
VERSION:2.0
PRODID:-//festivalonthebrazos.org//NONSGML kigkonsult.se iCalcreator 2.30.1
 0//
CALSCALE:GREGORIAN
METHOD:PUBLISH
UID:a1f16eeb-4cb3-4cf0-a1c2-28d781aba36c
X-WR-CALDESC:
X-WR-RELCALID:45561f971366df20bc082b756ca59f43
X-WR-TIMEZONE:America/Chicago
BEGIN:VTIMEZONE
TZID:America/Chicago
BEGIN:STANDARD
TZNAME:CST
DTSTART:20251102T020000
TZOFFSETFROM:-0500
TZOFFSETTO:-0600
RDATE:20261101T020000
END:STANDARD
BEGIN:DAYLIGHT
TZNAME:CDT
DTSTART:20260308T020000
TZOFFSETFROM:-0600
TZOFFSETTO:-0500
RDATE:20270314T020000
END:DAYLIGHT
END:VTIMEZONE
BEGIN:VEVENT
UID:e98eed75-c1aa-4779-bbb8-888868b54667
DTSTAMP:20260423T062041Z
DESCRIPTION:
DTSTART;TZID=America/Chicago:20260425T180000
DTEND;TZID=America/Chicago:20260425T233000
LOCATION:To be announced\, To be announced\, Waco\, TX 76710 US
SUMMARY:Court Dinner\, followed by Queen's Party
END:VEVENT
END:VCALENDAR
