BEGIN:VCALENDAR
VERSION:2.0
PRODID:-//festivalonthebrazos.org//NONSGML kigkonsult.se iCalcreator 2.30.1
 0//
CALSCALE:GREGORIAN
METHOD:PUBLISH
UID:a8c4608d-9102-4003-bc36-7b9b4282640e
X-WR-CALDESC:
X-WR-RELCALID:98dcbb98c62b975d201fc06ad94a66c0
X-WR-TIMEZONE:America/Chicago
BEGIN:VTIMEZONE
TZID:America/Chicago
BEGIN:STANDARD
TZNAME:CST
DTSTART:20251102T020000
TZOFFSETFROM:-0500
TZOFFSETTO:-0600
RDATE:20261101T020000
END:STANDARD
BEGIN:DAYLIGHT
TZNAME:CDT
DTSTART:20260308T020000
TZOFFSETFROM:-0600
TZOFFSETTO:-0500
RDATE:20270314T020000
END:DAYLIGHT
END:VTIMEZONE
BEGIN:VEVENT
UID:688e917f-c04a-41f9-b9b6-a8d774695371
DTSTAMP:20260421T093107Z
DESCRIPTION:
DTSTART;TZID=America/Chicago:20260425T190000
DTEND;TZID=America/Chicago:20260425T233000
LOCATION:AC Marriott Hotel Waco Downtown\, 600 Mary Avenue\, Waco\, TX 7670
 6 US
SUMMARY:Saturday Night Dinner Dance
END:VEVENT
END:VCALENDAR
